BEGIN:VCALENDAR
VERSION:2.0
PRODID:-//Plone.org//NONSGML plone.app.event//EN
X-WR-TIMEZONE:US/Eastern
BEGIN:VEVENT
SUMMARY:Story Time
DTSTART;TZID=US/Eastern:20260422T103000
DTEND;TZID=US/Eastern:20260422T113000
DTSTAMP:20260422T061223Z
UID:769d491cbed94368b33bde885a0b6137@saas_stack_varnish:6080
RRULE:FREQ=WEEKLY;UNTIL=20260527T000000;BYDAY=WE
EXDATE;TZID=US/Eastern:20251224T000000,20251231T000000
CONTACT:Deb\, 616.374.4591\, info@lakeodessalibrary.org
CREATED:20250812T155712Z
LAST-MODIFIED:20250812T160059Z
LOCATION:Library Meeting Room
URL:https://www.lakeodessalibrary.org/news-events/lib-cal/story-time-2
END:VEVENT
BEGIN:VEVENT
SUMMARY:Library Board Meeting
DTSTART;TZID=US/Eastern:20260422T180000
DTEND;TZID=US/Eastern:20260422T190000
DTSTAMP:20260422T061223Z
UID:ec96628317904787882204f02423be86@saas_stack_varnish:6080
RRULE:FREQ=MONTHLY;COUNT=12;BYDAY=+4WE
RDATE;TZID=US/Eastern:20260617T000000,20261118T000000,20261216T000000
EXDATE;TZID=US/Eastern:20260325T000000,20260325T000000,20260624T000000,202
 61125T000000,20261223T000000
CONTACT:Jennifer\, 616.374.4591\, info@lakeodessalibrary.org
CREATED:20251120T185120Z
LAST-MODIFIED:20260325T131214Z
LOCATION:Library Meeting Room
URL:https://www.lakeodessalibrary.org/news-events/lib-cal/library-board-me
 eting-7
END:VEVENT
BEGIN:VTIMEZONE
TZID:US/Eastern
X-LIC-LOCATION:US/Eastern
BEGIN:DAYLIGHT
DTSTART:20260308T030000
TZNAME:EDT
TZOFFSETFROM:-0500
TZOFFSETTO:-0400
END:DAYLIGHT
END:VTIMEZONE
END:VCALENDAR
