BEGIN:VCALENDAR
VERSION:2.0
PRODID:-//Plone.org//NONSGML plone.app.event//EN
X-WR-TIMEZONE:US/Eastern
BEGIN:VEVENT
SUMMARY:Medicare 101
DTSTART;TZID=US/Eastern:20260421T180000
DTEND;TZID=US/Eastern:20260421T190000
DTSTAMP:20260421T101949Z
UID:9b6a3bca9c794db397bb0338894c2a52@saas_stack_varnish:6080
CONTACT:Jennifer\, 616.374.4591\, info@lakeodessalibrary.org
CREATED:20260218T180529Z
LAST-MODIFIED:20260218T180555Z
LOCATION:Library Meeting Room
URL:https://www.lakeodessalibrary.org/news-events/lib-cal/medicare-101
END:VEVENT
BEGIN:VTIMEZONE
TZID:US/Eastern
X-LIC-LOCATION:US/Eastern
BEGIN:DAYLIGHT
DTSTART:20260308T030000
TZNAME:EDT
TZOFFSETFROM:-0500
TZOFFSETTO:-0400
END:DAYLIGHT
END:VTIMEZONE
END:VCALENDAR
