BEGIN:VCALENDAR
VERSION:2.0
PRODID:-//Plone.org//NONSGML plone.app.event//EN
X-WR-TIMEZONE:US/Eastern
BEGIN:VEVENT
SUMMARY:Christmas Craft Event
DTSTART;TZID=US/Eastern:20211202T160000
DTEND;TZID=US/Eastern:20211202T180000
DTSTAMP:20260419T125736Z
UID:2e170e86c5244a398b536ddc32bd6af0@saas_stack_varnish:6080
CONTACT:Julie\, 616.374.4591\, lko@llcoop.org
CREATED:20211110T194457Z
DESCRIPTION:See flyer below!
LAST-MODIFIED:20211110T194531Z
LOCATION:Library Meeting Room
URL:https://www.lakeodessalibrary.org/news-events/lib-cal/christmas-craft-
 event
END:VEVENT
BEGIN:VTIMEZONE
TZID:US/Eastern
X-LIC-LOCATION:US/Eastern
BEGIN:STANDARD
DTSTART:20211107T010000
TZNAME:EST
TZOFFSETFROM:-0400
TZOFFSETTO:-0500
END:STANDARD
END:VTIMEZONE
END:VCALENDAR
