BEGIN:VCALENDAR
VERSION:2.0
PRODID:-//Plone.org//NONSGML plone.app.event//EN
X-WR-TIMEZONE:US/Eastern
BEGIN:VEVENT
SUMMARY:Discussion & Desserts
DTSTART;TZID=US/Eastern:20260506T173000
DTEND;TZID=US/Eastern:20260506T183000
DTSTAMP:20260423T033122Z
UID:309d54f89c6348b19b7910d1e19b9c8c@saas_stack_varnish:6080
CONTACT:Jennifer\, 616.374.4591\, info@lakeodessalibrary.org
CREATED:20260418T135449Z
DESCRIPTION:Registration appreciated!
LAST-MODIFIED:20260418T135512Z
LOCATION:Library Meeting Room
URL:https://www.lakeodessalibrary.org/news-events/lib-cal/discussion-desse
 rts
END:VEVENT
BEGIN:VTIMEZONE
TZID:US/Eastern
X-LIC-LOCATION:US/Eastern
BEGIN:DAYLIGHT
DTSTART:20260308T030000
TZNAME:EDT
TZOFFSETFROM:-0500
TZOFFSETTO:-0400
END:DAYLIGHT
END:VTIMEZONE
END:VCALENDAR
