BEGIN:VCALENDAR
VERSION:2.0
PRODID:-//Plone.org//NONSGML plone.app.event//EN
X-WR-TIMEZONE:US/Eastern
BEGIN:VEVENT
SUMMARY:Landscape Owl Craft
DTSTART;TZID=US/Eastern:20210803T130000
DTEND;TZID=US/Eastern:20210803T140000
DTSTAMP:20260423T053917Z
UID:5f5aacdc6d38481c86463f63178875eb@saas_stack_varnish:6080
CONTACT:Julie\, 616.374.4591\, lkojs@llcoop.org
CREATED:20210722T140706Z
DESCRIPTION:See flyer below for details!
LAST-MODIFIED:20210722T140745Z
LOCATION:Library Meeting Room
URL:https://www.lakeodessalibrary.org/news-events/lib-cal/landscape-owl-cr
 aft
END:VEVENT
BEGIN:VTIMEZONE
TZID:US/Eastern
X-LIC-LOCATION:US/Eastern
BEGIN:DAYLIGHT
DTSTART:20210314T030000
TZNAME:EDT
TZOFFSETFROM:-0500
TZOFFSETTO:-0400
END:DAYLIGHT
END:VTIMEZONE
END:VCALENDAR
