BEGIN:VCALENDAR
VERSION:2.0
PRODID:-//Plone.org//NONSGML plone.app.event//EN
X-WR-TIMEZONE:US/Eastern
BEGIN:VEVENT
SUMMARY:Microscope Madness
DTSTART;TZID=US/Eastern:20170928T160000
DTEND;TZID=US/Eastern:20170928T173000
DTSTAMP:20260423T045758Z
UID:18b1bb9c8d9a44c5a31e3bc199472216@saas_stack_varnish:6080
CREATED:20170830T192130Z
DESCRIPTION:ages 14-18 years
LAST-MODIFIED:20170906T172126Z
URL:https://www.lakeodessalibrary.org/news-events/lib-cal/microscope-madne
 ss
END:VEVENT
BEGIN:VTIMEZONE
TZID:US/Eastern
X-LIC-LOCATION:US/Eastern
BEGIN:DAYLIGHT
DTSTART:20170312T030000
TZNAME:EDT
TZOFFSETFROM:-0500
TZOFFSETTO:-0400
END:DAYLIGHT
END:VTIMEZONE
END:VCALENDAR
