BEGIN:VCALENDAR
VERSION:2.0
PRODID:-//Plone.org//NONSGML plone.app.event//EN
X-WR-TIMEZONE:US/Eastern
BEGIN:VEVENT
SUMMARY:Open Book Club
DTSTART;TZID=US/Eastern:20201013T180000
DTEND;TZID=US/Eastern:20201013T190000
DTSTAMP:20260420T085830Z
UID:abbed48c4a4e46368672bac0c80f9306@saas_stack_varnish:6080
RRULE:FREQ=MONTHLY;UNTIL=20210511T000000;BYDAY=+2TU
EXDATE;TZID=US/Eastern:20201208T000000,20210112T000000,20210209T000000
CONTACT:Staff\, 616.374.4591\, lko@llcoop.org
CREATED:20200909T154836Z
DESCRIPTION:Join our Open Book Club each month!  See flyer for details!
LAST-MODIFIED:20210128T184931Z
LOCATION:Library Meeting Room
URL:https://www.lakeodessalibrary.org/news-events/lib-cal/open-book-club
END:VEVENT
BEGIN:VTIMEZONE
TZID:US/Eastern
X-LIC-LOCATION:US/Eastern
BEGIN:DAYLIGHT
DTSTART:20200308T030000
TZNAME:EDT
TZOFFSETFROM:-0500
TZOFFSETTO:-0400
END:DAYLIGHT
END:VTIMEZONE
END:VCALENDAR
