BEGIN:VCALENDAR
VERSION:2.0
PRODID:-//Plone.org//NONSGML plone.app.event//EN
X-WR-TIMEZONE:US/Eastern
BEGIN:VEVENT
SUMMARY:Preschool Story Time
DTSTART;TZID=US/Eastern:20180419T103000
DTEND;TZID=US/Eastern:20180419T113000
DTSTAMP:20260424T064151Z
UID:f9e1985540244c74a83a25d5ddce578b@saas_stack_varnish:6080
CREATED:20170830T191906Z
DESCRIPTION:ages 2-5
LAST-MODIFIED:20170830T191912Z
URL:https://www.lakeodessalibrary.org/news-events/lib-cal/preschool-story-
 time-5/2018-04-19
END:VEVENT
BEGIN:VTIMEZONE
TZID:US/Eastern
X-LIC-LOCATION:US/Eastern
BEGIN:DAYLIGHT
DTSTART:20180311T030000
TZNAME:EDT
TZOFFSETFROM:-0500
TZOFFSETTO:-0400
END:DAYLIGHT
END:VTIMEZONE
END:VCALENDAR
