BEGIN:VCALENDAR
VERSION:2.0
PRODID:-//Plone.org//NONSGML plone.app.event//EN
X-WR-TIMEZONE:US/Eastern
BEGIN:VEVENT
SUMMARY:Preschool Story Time
DTSTART;TZID=US/Eastern:20180905T103000
DTEND;TZID=US/Eastern:20180905T113000
DTSTAMP:20260420T084323Z
UID:200062d4b79c4676a94c1359fc9ea50b@saas_stack_varnish:6080
RRULE:FREQ=WEEKLY;UNTIL=20190523T000000;BYDAY=WE,TH
EXDATE;TZID=US/Eastern:20180816T000000,20180822T000000,20180823T000000,201
 80829T000000,20180830T000000,20181122T000000,20181226T000000,20181227T0000
 00,20190403T000000,20190404T000000
CONTACT:Deb Morrison\, 6163744591\, lko@llcoop.org
CREATED:20180815T195004Z
DESCRIPTION:Preschool Story Time for the 2018-2019 School Year\nPerfect fo
 r 2-5 year olds\nWednesdays and Thursdays each week at 10:30am
LAST-MODIFIED:20190313T160110Z
LOCATION:Library Meeting Room
URL:https://www.lakeodessalibrary.org/news-events/lib-cal/preschool-story-
 time-6
END:VEVENT
BEGIN:VTIMEZONE
TZID:US/Eastern
X-LIC-LOCATION:US/Eastern
BEGIN:DAYLIGHT
DTSTART:20180311T030000
TZNAME:EDT
TZOFFSETFROM:-0500
TZOFFSETTO:-0400
END:DAYLIGHT
END:VTIMEZONE
END:VCALENDAR
