BEGIN:VCALENDAR
VERSION:2.0
PRODID:-//Plone.org//NONSGML plone.app.event//EN
X-WR-TIMEZONE:US/Eastern
BEGIN:VEVENT
SUMMARY:Princess & Pirate Party
DTSTART;TZID=US/Eastern:20170502T173000
DTEND;TZID=US/Eastern:20170502T193000
DTSTAMP:20260421T033747Z
UID:f3ecf7bb5db84171a72cc825ef4f6b0d@saas_stack_varnish:6080
RRULE:FREQ=DAILY;COUNT=2;INTERVAL=2
CREATED:20170413T164456Z
DESCRIPTION:May 2 OR May 4
LAST-MODIFIED:20170413T164500Z
URL:https://www.lakeodessalibrary.org/news-events/lib-cal/princess-pirate-
 party
END:VEVENT
BEGIN:VTIMEZONE
TZID:US/Eastern
X-LIC-LOCATION:US/Eastern
BEGIN:DAYLIGHT
DTSTART:20170312T030000
TZNAME:EDT
TZOFFSETFROM:-0500
TZOFFSETTO:-0400
END:DAYLIGHT
END:VTIMEZONE
END:VCALENDAR
