BEGIN:VCALENDAR
VERSION:2.0
PRODID:-//Plone.org//NONSGML plone.app.event//EN
X-WR-TIMEZONE:US/Eastern
BEGIN:VEVENT
SUMMARY:STEM w/ Mr. Mike
DTSTART;TZID=US/Eastern:20260317T153000
DTEND;TZID=US/Eastern:20260317T170000
DTSTAMP:20260421T121653Z
UID:b79b3ec0b57443eb969bce0717b58970@saas_stack_varnish:6080
CONTACT:Mike\, 616.374.4591\, info@lakeodessalibrary.org
CREATED:20260217T172646Z
LAST-MODIFIED:20260217T172725Z
LOCATION:Library Meeting Room
URL:https://www.lakeodessalibrary.org/news-events/lib-cal/stem-w-mr-mike-2
 0
END:VEVENT
BEGIN:VTIMEZONE
TZID:US/Eastern
X-LIC-LOCATION:US/Eastern
BEGIN:DAYLIGHT
DTSTART:20260308T030000
TZNAME:EDT
TZOFFSETFROM:-0500
TZOFFSETTO:-0400
END:DAYLIGHT
END:VTIMEZONE
END:VCALENDAR
