BEGIN:VCALENDAR
VERSION:2.0
PRODID:-//Plone.org//NONSGML plone.app.event//EN
X-WR-TIMEZONE:US/Eastern
BEGIN:VEVENT
SUMMARY:Story Time
DTSTART;TZID=US/Eastern:20260304T103000
DTEND;TZID=US/Eastern:20260304T113000
DTSTAMP:20260421T115947Z
UID:769d491cbed94368b33bde885a0b6137@saas_stack_varnish:6080
CONTACT:Deb\, 616.374.4591\, info@lakeodessalibrary.org
CREATED:20250812T155712Z
LAST-MODIFIED:20250812T160059Z
LOCATION:Library Meeting Room
URL:https://www.lakeodessalibrary.org/news-events/lib-cal/story-time-2/202
 6-03-04
END:VEVENT
BEGIN:VTIMEZONE
TZID:US/Eastern
X-LIC-LOCATION:US/Eastern
BEGIN:STANDARD
DTSTART:20251102T010000
TZNAME:EST
TZOFFSETFROM:-0400
TZOFFSETTO:-0500
END:STANDARD
END:VTIMEZONE
END:VCALENDAR
