BEGIN:VCALENDAR
VERSION:2.0
PRODID:-//Plone.org//NONSGML plone.app.event//EN
X-WR-TIMEZONE:US/Eastern
BEGIN:VEVENT
SUMMARY:Summer Family Story Time
DTSTART;TZID=US/Eastern:20210610T103000
DTEND;TZID=US/Eastern:20210610T113000
DTSTAMP:20260425T195126Z
UID:8576f41fc0fa4f1eb8835d2b196a8815@saas_stack_varnish:6080
RRULE:FREQ=WEEKLY;UNTIL=20210729T000000;BYDAY=TH
CONTACT:Deb Morrison\, 616.374.4591\, lkodm@llcoop.org
CREATED:20210519T155442Z
DESCRIPTION:Perfect for 2-5 year olds!  Registration required!
LAST-MODIFIED:20210519T155512Z
LOCATION:Library
URL:https://www.lakeodessalibrary.org/news-events/lib-cal/summer-family-st
 ory-time-2
END:VEVENT
BEGIN:VTIMEZONE
TZID:US/Eastern
X-LIC-LOCATION:US/Eastern
BEGIN:DAYLIGHT
DTSTART:20210314T030000
TZNAME:EDT
TZOFFSETFROM:-0500
TZOFFSETTO:-0400
END:DAYLIGHT
END:VTIMEZONE
END:VCALENDAR
