BEGIN:VCALENDAR
VERSION:2.0
PRODID:-//Plone.org//NONSGML plone.app.event//EN
X-WR-TIMEZONE:US/Eastern
BEGIN:VEVENT
SUMMARY:Tai Chi
DTSTART;TZID=US/Eastern:20221102T130000
DTEND;TZID=US/Eastern:20221102T140000
DTSTAMP:20260419T184747Z
UID:e194338b126845a5a9df539e8e0f08f8@saas_stack_varnish:6080
RRULE:FREQ=WEEKLY;COUNT=8;BYDAY=WE
CONTACT:616.374.4591\, lko@llcoop.org
CREATED:20220929T140246Z
LAST-MODIFIED:20220929T140302Z
LOCATION:Library Meeting Room
URL:https://www.lakeodessalibrary.org/news-events/lib-cal/tai-chi-5
END:VEVENT
BEGIN:VTIMEZONE
TZID:US/Eastern
X-LIC-LOCATION:US/Eastern
BEGIN:DAYLIGHT
DTSTART:20220313T030000
TZNAME:EDT
TZOFFSETFROM:-0500
TZOFFSETTO:-0400
END:DAYLIGHT
END:VTIMEZONE
END:VCALENDAR
