BEGIN:VCALENDAR
VERSION:2.0
PRODID:-//Plone.org//NONSGML plone.app.event//EN
X-WR-TIMEZONE:US/Eastern
BEGIN:VEVENT
SUMMARY:The Ozobots are coming!
DTSTART;TZID=US/Eastern:20180801T103000
DTEND;TZID=US/Eastern:20180801T113000
DTSTAMP:20260424T065010Z
UID:dfe509a70db74835820a6aa26c890f33@saas_stack_varnish:6080
CONTACT:Jen Salgat\, 6163744591\, lko@llcoop.org\, https://www.facebook.co
 m/Lake.Odessa.Community.Library/
CREATED:20180711T180808Z
DESCRIPTION:The world's tiniest robots\, programmable by color.  Code\, Cr
 eate\, and Connect!
LAST-MODIFIED:20180711T180815Z
LOCATION:Library Meeting Room
URL:https://www.lakeodessalibrary.org/news-events/lib-cal/the-ozobots-are-
 coming
END:VEVENT
BEGIN:VTIMEZONE
TZID:US/Eastern
X-LIC-LOCATION:US/Eastern
BEGIN:DAYLIGHT
DTSTART:20180311T030000
TZNAME:EDT
TZOFFSETFROM:-0500
TZOFFSETTO:-0400
END:DAYLIGHT
END:VTIMEZONE
END:VCALENDAR
