BEGIN:VCALENDAR
VERSION:2.0
PRODID:-//Plone.org//NONSGML plone.app.event//EN
X-WR-TIMEZONE:US/Eastern
BEGIN:VEVENT
SUMMARY:Tickle Your Funny Bone
DTSTART;TZID=US/Eastern:20221103T160000
DTEND;TZID=US/Eastern:20221103T170000
DTSTAMP:20260419T234208Z
UID:2445bd9ff03d4908a263f37650087dd8@saas_stack_varnish:6080
CONTACT:Julie\, 616.374.4591\, lko@llcoop.org
CREATED:20221005T174931Z
LAST-MODIFIED:20221005T175103Z
LOCATION:Library Meeting Room
URL:https://www.lakeodessalibrary.org/news-events/lib-cal/tickle-your-funn
 y-bone
END:VEVENT
BEGIN:VTIMEZONE
TZID:US/Eastern
X-LIC-LOCATION:US/Eastern
BEGIN:DAYLIGHT
DTSTART:20220313T030000
TZNAME:EDT
TZOFFSETFROM:-0500
TZOFFSETTO:-0400
END:DAYLIGHT
END:VTIMEZONE
END:VCALENDAR
