BEGIN:VCALENDAR
VERSION:2.0
PRODID:-//Plone.org//NONSGML plone.app.event//EN
X-WR-TIMEZONE:US/Eastern
BEGIN:VEVENT
SUMMARY:Wacky Wednesday
DTSTART;TZID=US/Eastern:20171227T130000
DTEND;TZID=US/Eastern:20171227T143000
DTSTAMP:20260424T221030Z
UID:fd6a2f876b384371a439b88567fedffe@saas_stack_varnish:6080
CREATED:20171227T151016Z
DESCRIPTION:games & a popcorn buffet
LAST-MODIFIED:20171227T151021Z
URL:https://www.lakeodessalibrary.org/news-events/lib-cal/wacky-wednesday
END:VEVENT
BEGIN:VTIMEZONE
TZID:US/Eastern
X-LIC-LOCATION:US/Eastern
BEGIN:STANDARD
DTSTART:20171105T010000
TZNAME:EST
TZOFFSETFROM:-0400
TZOFFSETTO:-0500
END:STANDARD
END:VTIMEZONE
END:VCALENDAR
