BEGIN:VCALENDAR
VERSION:2.0
PRODID:-//Plone.org//NONSGML plone.app.event//EN
X-WR-TIMEZONE:US/Eastern
BEGIN:VEVENT
SUMMARY:Yoga w/ Linda
DTSTART;TZID=US/Eastern:20240907T090000
DTEND;TZID=US/Eastern:20240907T100000
DTSTAMP:20260419T234816Z
UID:0472648ecb02457fbeb8ce5a5f8d16ea@saas_stack_varnish:6080
RRULE:FREQ=WEEKLY;UNTIL=20241228T000000;BYDAY=SA
EXDATE;TZID=US/Eastern:20240928T000000,20241130T000000
CONTACT:Jennifer\, 616-374-4591\, info@lakeodessalibrary.org
CREATED:20240821T151702Z
DESCRIPTION:Start time is 9:08 AM
LAST-MODIFIED:20240905T184848Z
LOCATION:Library Meeting Room
URL:https://www.lakeodessalibrary.org/news-events/lib-cal/yoga-w-linda-1
END:VEVENT
BEGIN:VTIMEZONE
TZID:US/Eastern
X-LIC-LOCATION:US/Eastern
BEGIN:DAYLIGHT
DTSTART:20240310T030000
TZNAME:EDT
TZOFFSETFROM:-0500
TZOFFSETTO:-0400
END:DAYLIGHT
END:VTIMEZONE
END:VCALENDAR
